BEGIN:VCALENDAR
VERSION:2.0
PRODID:-//Squarespace Inc/Squarespace 6//v6//EN
BEGIN:VEVENT
UID:5cbfb682971a186cc119fb32@squarespace.com
DTSTAMP:20190424T011603Z
DTSTART:20191108T220000Z
DTEND:20191109T050000Z
SUMMARY:Springwood Fair Trade Christmas market
END:VEVENT
END:VCALENDAR
