BEGIN:VCALENDAR
VERSION:2.0
PRODID:-//Squarespace Inc/Squarespace 6//v6//EN
BEGIN:VEVENT
UID:5ac24266f950b77ed28957ea@squarespace.com
DTSTAMP:20180402T150850Z
DTSTART:20180504T230000Z
DTEND:20180505T070000Z
SUMMARY:Manly Fair Trade Market
END:VEVENT
END:VCALENDAR
