BEGIN:VCALENDAR
VERSION:2.0
PRODID:-//Squarespace Inc/Squarespace 6//v6//EN
BEGIN:VEVENT
UID:5cbfb248e5e5f0d36e97035f@squarespace.com
DTSTAMP:20190424T005356Z
DTSTART:20190607T220000Z
DTEND:20190608T040000Z
SUMMARY:Goulburn Fair Trade Market
END:VEVENT
END:VCALENDAR
