BEGIN:VCALENDAR
VERSION:2.0
PRODID:-//Squarespace Inc/Squarespace 6//v6//EN
BEGIN:VEVENT
UID:5bc480944192027cad8115f4@squarespace.com
DTSTAMP:20181015T120148Z
DTSTART:20181130T220000Z
DTEND:20181201T040000Z
SUMMARY:Chatswood Fair Trade Christmas Market
END:VEVENT
END:VCALENDAR
